BEGIN:VCALENDAR
VERSION:2.0
PRODID:-//CERN//INDICO//EN
BEGIN:VEVENT
SUMMARY:Sema Caliskan (Uppsala University): On the cosmic origins of coppe
 r\, silver\, and gold: atomic structure and 3D/non-LTE abundances (PhD def
 ence)
DTSTART:20260428T111500Z
DTEND:20260428T150000Z
DTSTAMP:20260424T204200Z
UID:indico-event-2007@indico.uu.se
DESCRIPTION:Title: On the cosmic origins of copper\, silver\, and gold: at
 omic structure and 3D/non-LTE abundancesSpeaker: Sema CaliskanAffiliation:
  Uppsala UniversityTime: Tuesday 28 April 2026\, 1315Location: 101121Å (S
 onja Lyttkens)Thesis: http://uu.diva-portal.org/smash/record.jsf?pid=diva2
 %3A2043727Opponent: Prof. Norbert Przybilla (University of Innsbruck).Comm
 ittee: Prof. Camilla Juul Hansen (Goethe University Frankfurt)\; Docent Ha
 mpus Nilsson (Malmö University)\; Docent Erik Vigren (Swedish Institute f
 or Space Physics)\; Prof. Susanne Höfner (Uppsala University\; reserve).\
 n\nhttps://indico.uu.se/event/2007/
LOCATION:101121Å (Sonja Lyttkens)
URL:https://indico.uu.se/event/2007/
END:VEVENT
END:VCALENDAR
