BEGIN:VCALENDAR
VERSION:2.0
PRODID:-//CERN//INDICO//EN
BEGIN:VEVENT
SUMMARY:Jack White (IRF Uppsala): Electron energisation by parallel electr
 ic fields during magnetic reconnection (Licentiate defence)
DTSTART:20260428T080000Z
DTEND:20260428T100000Z
DTSTAMP:20260424T204200Z
UID:indico-event-2037@indico.uu.se
DESCRIPTION:Title: Electron energisation by parallel electric fields duri
 ng magnetic reconnectionWhen: Tuesday 28th April\, 10:00Where: Å90103
  (View on MazeMap).Opponent: Prof. Mykola Ivchenko\, KTHExaminer: Prof.
  Yuri Khotyaintsev\, UU The electronic version of the thesis is available
  here: diva2:2051068 \n\nhttps://indico.uu.se/event/2037/
LOCATION:90103Å
URL:https://indico.uu.se/event/2037/
END:VEVENT
END:VCALENDAR
